BEGIN:VCALENDAR
PRODID:-//github.com/rianjs/ical.net//NONSGML ical.net 4.0//EN
VERSION:2.0
BEGIN:VTIMEZONE
TZID:Pacific Standard Time
X-LIC-LOCATION:America/Los_Angeles
BEGIN:STANDARD
DTSTART:20241103T020000
RRULE:FREQ=YEARLY;BYDAY=1SU;BYMONTH=11
TZNAME:PST
TZOFFSETFROM:-0700
TZOFFSETTO:-0800
END:STANDARD
BEGIN:DAYLIGHT
DTSTART:20250309T020000
RRULE:FREQ=YEARLY;BYDAY=2SU;BYMONTH=3
TZNAME:PDT
TZOFFSETFROM:-0800
TZOFFSETTO:-0700
END:DAYLIGHT
END:VTIMEZONE
BEGIN:VEVENT
DESCRIPTION:2025 Annual Meeting by the American Academy of Neurology\n\nTi
 tle: TRANSCENDS Scholar Dinner \n\nDescription: TRANSCENDS scholar dinner
  - four attendees\, will be after their poster session.  Will need reserv
 ation at a close restaurant by the convention center.  If it's at a resta
 urant at one of our partner hotels\, would be great to get it added onto 
 the main account / bill.  If not\, we can use my work credit card. Thanks
 ! \n\n\nLearn More About This Event: https://www.aan.com/msa/Public/Event
 s/Details/18790
DTEND;TZID=Pacific Standard Time:20250407T200000
DTSTAMP:20260424T100309Z
DTSTART;TZID=Pacific Standard Time:20250407T190000
LOCATION:https://www.aan.com/msa/Public/Events/GetEventURL/18790
SEQUENCE:0
SUMMARY:AAN: TRANSCENDS Scholar Dinner
UID:2350e995-d0c2-4db0-8647-d7e83b5d075d
END:VEVENT
END:VCALENDAR
