BEGIN:VCALENDAR
PRODID:-//github.com/rianjs/ical.net//NONSGML ical.net 4.0//EN
VERSION:2.0
BEGIN:VTIMEZONE
TZID:Pacific Standard Time
X-LIC-LOCATION:America/Los_Angeles
BEGIN:STANDARD
DTSTART:20241103T020000
RRULE:FREQ=YEARLY;BYDAY=1SU;BYMONTH=11
TZNAME:PST
TZOFFSETFROM:-0700
TZOFFSETTO:-0800
END:STANDARD
BEGIN:DAYLIGHT
DTSTART:20250309T020000
RRULE:FREQ=YEARLY;BYDAY=2SU;BYMONTH=3
TZNAME:PDT
TZOFFSETFROM:-0800
TZOFFSETTO:-0700
END:DAYLIGHT
END:VTIMEZONE
BEGIN:VEVENT
DESCRIPTION:2025 Annual Meeting by the American Academy of Neurology\n\nTi
 tle: Roche / Genentech Cielo Engagement Meeting\n\nDescription: Engagemen
 t meeting\n\nLearn More About This Event: https://www.aan.com/msa/Public/
 Events/Details/18811
DTEND;TZID=Pacific Standard Time:20250406T190000
DTSTAMP:20260423T155229Z
DTSTART;TZID=Pacific Standard Time:20250406T170000
LOCATION:https://www.aan.com/msa/Public/Events/GetEventURL/18811
SEQUENCE:0
SUMMARY:AAN: Roche / Genentech Cielo Engagement Meeting
UID:759631c3-44d4-402c-8d00-778d0849748d
END:VEVENT
END:VCALENDAR
