BEGIN:VCALENDAR
PRODID:-//github.com/rianjs/ical.net//NONSGML ical.net 4.0//EN
VERSION:2.0
BEGIN:VTIMEZONE
TZID:Pacific Standard Time
X-LIC-LOCATION:America/Los_Angeles
BEGIN:STANDARD
DTSTART:20241103T020000
RRULE:FREQ=YEARLY;BYDAY=1SU;BYMONTH=11
TZNAME:PST
TZOFFSETFROM:-0700
TZOFFSETTO:-0800
END:STANDARD
BEGIN:DAYLIGHT
DTSTART:20250309T020000
RRULE:FREQ=YEARLY;BYDAY=2SU;BYMONTH=3
TZNAME:PDT
TZOFFSETFROM:-0800
TZOFFSETTO:-0700
END:DAYLIGHT
END:VTIMEZONE
BEGIN:VEVENT
DESCRIPTION:2025 Annual Meeting by the American Academy of Neurology\n\nTi
 tle: Roche Cielo Engagement Meeting\n\nDescription: Engagement Meeting\n\
 nLearn More About This Event: https://www.aan.com/msa/Public/Events/Detai
 ls/18845
DTEND;TZID=Pacific Standard Time:20250406T193000
DTSTAMP:20260424T123449Z
DTSTART;TZID=Pacific Standard Time:20250406T170000
LOCATION:https://www.aan.com/msa/Public/Events/GetEventURL/18845
SEQUENCE:0
SUMMARY:AAN: Roche Cielo Engagement Meeting
UID:9364ffe8-9e58-4f7c-82e5-a4a0cd871e61
END:VEVENT
END:VCALENDAR
