BEGIN:VCALENDAR
PRODID:-//github.com/rianjs/ical.net//NONSGML ical.net 4.0//EN
VERSION:2.0
BEGIN:VTIMEZONE
TZID:Pacific Standard Time
X-LIC-LOCATION:America/Los_Angeles
BEGIN:STANDARD
DTSTART:20241103T020000
RRULE:FREQ=YEARLY;BYDAY=1SU;BYMONTH=11
TZNAME:PST
TZOFFSETFROM:-0700
TZOFFSETTO:-0800
END:STANDARD
BEGIN:DAYLIGHT
DTSTART:20250309T020000
RRULE:FREQ=YEARLY;BYDAY=2SU;BYMONTH=3
TZNAME:PDT
TZOFFSETFROM:-0800
TZOFFSETTO:-0700
END:DAYLIGHT
END:VTIMEZONE
BEGIN:VEVENT
DESCRIPTION:2025 Annual Meeting by the American Academy of Neurology\n\nTi
 tle: Genentech Board Meetings\n\nDescription: Advisory Board Meeting\n\nL
 earn More About This Event: https://www.aan.com/msa/Public/Events/Details
 /18871
DTEND;TZID=Pacific Standard Time;VALUE=DATE:20250405
DTSTAMP:20260423T214443Z
DTSTART;TZID=Pacific Standard Time;VALUE=DATE:20250404
LOCATION:https://www.aan.com/msa/Public/Events/GetEventURL/18871
SEQUENCE:0
SUMMARY:AAN: Genentech Board Meetings
UID:78e28253-e607-4b2f-b7c2-0b56aef6e162
END:VEVENT
END:VCALENDAR
