BEGIN:VCALENDAR
PRODID:-//github.com/rianjs/ical.net//NONSGML ical.net 4.0//EN
VERSION:2.0
BEGIN:VTIMEZONE
TZID:Pacific Standard Time
X-LIC-LOCATION:America/Los_Angeles
BEGIN:STANDARD
DTSTART:20241103T020000
RRULE:FREQ=YEARLY;BYDAY=1SU;BYMONTH=11
TZNAME:PST
TZOFFSETFROM:-0700
TZOFFSETTO:-0800
END:STANDARD
BEGIN:DAYLIGHT
DTSTART:20250309T020000
RRULE:FREQ=YEARLY;BYDAY=2SU;BYMONTH=3
TZNAME:PDT
TZOFFSETFROM:-0800
TZOFFSETTO:-0700
END:DAYLIGHT
END:VTIMEZONE
BEGIN:VEVENT
DESCRIPTION:2025 Annual Meeting by the American Academy of Neurology\n\nTi
 tle: Novo Nordisk 2025 Alzheimer’s Disease Commercial Advisory Board\n\nD
 escription: Novo Nordisk 2025 Alzheimer’s Disease Commercial Advisory Boa
 rd taking place on April 10. We need to secure a small meeting room at a 
 hotel for a brief rehearsal and would be securing a venue for dinner the 
 evening of the 9th. \n\nLearn More About This Event: https://www.aan.com/
 msa/Public/Events/Details/18889
DTEND;TZID=Pacific Standard Time:20250409T210000
DTSTAMP:20260423T213754Z
DTSTART;TZID=Pacific Standard Time:20250409T120000
LOCATION:https://www.aan.com/msa/Public/Events/GetEventURL/18889
SEQUENCE:0
SUMMARY:AAN: Novo Nordisk 2025 Alzheimer’s Disease Commercial Advisory Boa
 rd
UID:c1a0eab0-4260-4f9c-8a91-a75273d6e7d3
END:VEVENT
END:VCALENDAR
