BEGIN:VCALENDAR
PRODID:-//github.com/rianjs/ical.net//NONSGML ical.net 4.0//EN
VERSION:2.0
BEGIN:VTIMEZONE
TZID:Pacific Standard Time
X-LIC-LOCATION:America/Los_Angeles
BEGIN:STANDARD
DTSTART:20241103T020000
RRULE:FREQ=YEARLY;BYDAY=1SU;BYMONTH=11
TZNAME:PST
TZOFFSETFROM:-0700
TZOFFSETTO:-0800
END:STANDARD
BEGIN:DAYLIGHT
DTSTART:20250309T020000
RRULE:FREQ=YEARLY;BYDAY=2SU;BYMONTH=3
TZNAME:PDT
TZOFFSETFROM:-0800
TZOFFSETTO:-0700
END:DAYLIGHT
END:VTIMEZONE
BEGIN:VEVENT
DESCRIPTION:2025 Annual Meeting by the American Academy of Neurology\n\nTi
 tle: ALS Think Tank 2025\n\nDescription: The third edition of the ALS Thi
 nk Tank\, organized by Mitsubishi Tanabe Pharma Canada (MTP-CA)\, is a un
 ique opportunity for clinicians and researchers involved in ALS to presen
 t current and upcoming research projects deemed important for the field. 
 \n\nLearn More About This Event: https://www.aan.com/msa/Public/Events/De
 tails/18893
DTEND;TZID=Pacific Standard Time:20250404T200000
DTSTAMP:20260424T021900Z
DTSTART;TZID=Pacific Standard Time:20250404T160000
LOCATION:https://www.aan.com/msa/Public/Events/GetEventURL/18893
SEQUENCE:0
SUMMARY:AAN: ALS Think Tank 2025
UID:a478f20f-da08-44ec-b9a1-96b2544f14d1
END:VEVENT
END:VCALENDAR
