BEGIN:VCALENDAR
PRODID:-//github.com/rianjs/ical.net//NONSGML ical.net 4.0//EN
VERSION:2.0
BEGIN:VTIMEZONE
TZID:Pacific Standard Time
X-LIC-LOCATION:America/Los_Angeles
BEGIN:STANDARD
DTSTART:20241103T020000
RRULE:FREQ=YEARLY;BYDAY=1SU;BYMONTH=11
TZNAME:PST
TZOFFSETFROM:-0700
TZOFFSETTO:-0800
END:STANDARD
BEGIN:DAYLIGHT
DTSTART:20250309T020000
RRULE:FREQ=YEARLY;BYDAY=2SU;BYMONTH=3
TZNAME:PDT
TZOFFSETFROM:-0800
TZOFFSETTO:-0700
END:DAYLIGHT
END:VTIMEZONE
BEGIN:VEVENT
DESCRIPTION:2025 Annual Meeting by the American Academy of Neurology\n\nTi
 tle: UCB Advisory Board Meeting\n\nDescription: This is a medical advisor
 y board meeting consisting of HCPs with experience treating patients with
  MOGAD. We will be presenting clinical data and having discussions around
  treatment and patient-types. \n\nLearn More About This Event: https://ww
 w.aan.com/msa/Public/Events/Details/18895
DTEND;TZID=Pacific Standard Time:20250405T130000
DTSTAMP:20260424T022006Z
DTSTART;TZID=Pacific Standard Time:20250405T070000
LOCATION:https://www.aan.com/msa/Public/Events/GetEventURL/18895
SEQUENCE:0
SUMMARY:AAN: UCB Advisory Board Meeting
UID:354a7bf2-d79a-468a-a026-8346a3807c91
END:VEVENT
END:VCALENDAR
