BEGIN:VCALENDAR
PRODID:-//github.com/rianjs/ical.net//NONSGML ical.net 4.0//EN
VERSION:2.0
BEGIN:VTIMEZONE
TZID:Pacific Standard Time
X-LIC-LOCATION:America/Los_Angeles
BEGIN:STANDARD
DTSTART:20241103T020000
RRULE:FREQ=YEARLY;BYDAY=1SU;BYMONTH=11
TZNAME:PST
TZOFFSETFROM:-0700
TZOFFSETTO:-0800
END:STANDARD
BEGIN:DAYLIGHT
DTSTART:20250309T020000
RRULE:FREQ=YEARLY;BYDAY=2SU;BYMONTH=3
TZNAME:PDT
TZOFFSETFROM:-0800
TZOFFSETTO:-0700
END:DAYLIGHT
END:VTIMEZONE
BEGIN:VEVENT
DESCRIPTION:2025 Annual Meeting by the American Academy of Neurology\n\nTi
 tle: Roche InsideMS\n\nDescription:  Room required:\n- For HCP to share i
 nsights from AAN congress sessions with medical writers each day \n\n- As
  space for end of day group briefings \n\n- As a working office space thr
 oughout congress for Agency and Roche staff \n\n- For evening pre-dinner 
 drinks ahead of dinners\n\nLearn More About This Event: https://www.aan.c
 om/msa/Public/Events/Details/18909
DTEND;TZID=Pacific Standard Time;VALUE=DATE:20250409
DTSTAMP:20260423T213314Z
DTSTART;TZID=Pacific Standard Time;VALUE=DATE:20250404
LOCATION:https://www.aan.com/msa/Public/Events/GetEventURL/18909
SEQUENCE:0
SUMMARY:AAN: Roche InsideMS
UID:2e9ec24d-758c-43b6-a969-7b1d0b67b537
END:VEVENT
END:VCALENDAR
