BEGIN:VCALENDAR
PRODID:-//github.com/rianjs/ical.net//NONSGML ical.net 4.0//EN
VERSION:2.0
BEGIN:VTIMEZONE
TZID:Pacific Standard Time
X-LIC-LOCATION:America/Los_Angeles
BEGIN:STANDARD
DTSTART:20241103T020000
RRULE:FREQ=YEARLY;BYDAY=1SU;BYMONTH=11
TZNAME:PST
TZOFFSETFROM:-0700
TZOFFSETTO:-0800
END:STANDARD
BEGIN:DAYLIGHT
DTSTART:20250309T020000
RRULE:FREQ=YEARLY;BYDAY=2SU;BYMONTH=3
TZNAME:PDT
TZOFFSETFROM:-0800
TZOFFSETTO:-0700
END:DAYLIGHT
END:VTIMEZONE
BEGIN:VEVENT
DESCRIPTION:2025 Annual Meeting by the American Academy of Neurology\n\nTi
 tle: UCB Advisory Board Meeting- Virtual Attendees\n\nDescription: This r
 oom will be used for breakfast and as a room to virtually attend a meetin
 g through Zoom or Teams\n\nLearn More About This Event: https://www.aan.c
 om/msa/Public/Events/Details/18932
DTEND;TZID=Pacific Standard Time:20250405T133000
DTSTAMP:20260424T095701Z
DTSTART;TZID=Pacific Standard Time:20250405T063000
LOCATION:https://www.aan.com/msa/Public/Events/GetEventURL/18932
SEQUENCE:0
SUMMARY:AAN: UCB Advisory Board Meeting- Virtual Attendees
UID:09bad689-ab3a-4675-a3b0-24691b631492
END:VEVENT
END:VCALENDAR
