BEGIN:VCALENDAR
PRODID:-//github.com/rianjs/ical.net//NONSGML ical.net 4.0//EN
VERSION:2.0
BEGIN:VTIMEZONE
TZID:Pacific Standard Time
X-LIC-LOCATION:America/Los_Angeles
BEGIN:STANDARD
DTSTART:20241103T020000
RRULE:FREQ=YEARLY;BYDAY=1SU;BYMONTH=11
TZNAME:PST
TZOFFSETFROM:-0700
TZOFFSETTO:-0800
END:STANDARD
BEGIN:DAYLIGHT
DTSTART:20250309T020000
RRULE:FREQ=YEARLY;BYDAY=2SU;BYMONTH=3
TZNAME:PDT
TZOFFSETFROM:-0800
TZOFFSETTO:-0700
END:DAYLIGHT
END:VTIMEZONE
BEGIN:VEVENT
DESCRIPTION:2025 Annual Meeting by the American Academy of Neurology\n\nTi
 tle: IntraBio Internal Employee Meeting\n\nDescription: Internal employee
  meeting\n\nLearn More About This Event: https://www.aan.com/msa/Public/E
 vents/Details/18933
DTEND;TZID=Pacific Standard Time:20250408T200000
DTSTAMP:20260423T234009Z
DTSTART;TZID=Pacific Standard Time:20250408T160000
LOCATION:https://www.aan.com/msa/Public/Events/GetEventURL/18933
SEQUENCE:0
SUMMARY:AAN: IntraBio Internal Employee Meeting
UID:5c07d63a-924e-4582-89fc-dbc063291a0f
END:VEVENT
END:VCALENDAR
