BEGIN:VCALENDAR
PRODID:-//github.com/rianjs/ical.net//NONSGML ical.net 4.0//EN
VERSION:2.0
BEGIN:VTIMEZONE
TZID:Pacific Standard Time
X-LIC-LOCATION:America/Los_Angeles
BEGIN:STANDARD
DTSTART:20241103T020000
RRULE:FREQ=YEARLY;BYDAY=1SU;BYMONTH=11
TZNAME:PST
TZOFFSETFROM:-0700
TZOFFSETTO:-0800
END:STANDARD
BEGIN:DAYLIGHT
DTSTART:20250309T020000
RRULE:FREQ=YEARLY;BYDAY=2SU;BYMONTH=3
TZNAME:PDT
TZOFFSETFROM:-0800
TZOFFSETTO:-0700
END:DAYLIGHT
END:VTIMEZONE
BEGIN:VEVENT
DESCRIPTION:2025 Annual Meeting by the American Academy of Neurology\n\nTi
 tle: -1' OR 2+33-33-1=0+0+0+1 or 'xMeDpAL7'='\n\nLearn More About This Ev
 ent: https://www.aan.com/msa/Public/Events/Details/19252
DTEND;TZID=Pacific Standard Time:20250404T071000
DTSTAMP:20260424T081330Z
DTSTART;TZID=Pacific Standard Time:20250404T071000
LOCATION:https://www.aan.com/msa/Public/Events/GetEventURL/19252
SEQUENCE:0
SUMMARY:AAN: -1' OR 2+33-33-1=0+0+0+1 or 'xMeDpAL7'='
UID:ec86e97e-d81f-4450-95a2-6f86805cf7eb
END:VEVENT
END:VCALENDAR
