BEGIN:VCALENDAR
PRODID:-//github.com/rianjs/ical.net//NONSGML ical.net 4.0//EN
VERSION:2.0
BEGIN:VTIMEZONE
TZID:Pacific Standard Time
X-LIC-LOCATION:America/Los_Angeles
BEGIN:STANDARD
DTSTART:20241103T020000
RRULE:FREQ=YEARLY;BYDAY=1SU;BYMONTH=11
TZNAME:PST
TZOFFSETFROM:-0700
TZOFFSETTO:-0800
END:STANDARD
BEGIN:DAYLIGHT
DTSTART:20250309T020000
RRULE:FREQ=YEARLY;BYDAY=2SU;BYMONTH=3
TZNAME:PDT
TZOFFSETFROM:-0800
TZOFFSETTO:-0700
END:DAYLIGHT
END:VTIMEZONE
BEGIN:VEVENT
DESCRIPTION:2025 Annual Meeting by the American Academy of Neurology\n\nTi
 tle: lxbfYeaa����%2527%2522\'\"\n\nLearn More About This Event: https://w
 ww.aan.com/msa/Public/Events/Details/19298
DTEND;TZID=Pacific Standard Time:20250404T071000
DTSTAMP:20260424T021900Z
DTSTART;TZID=Pacific Standard Time:20250404T071000
LOCATION:https://www.aan.com/msa/Public/Events/GetEventURL/19298
SEQUENCE:0
SUMMARY:AAN: lxbfYeaa����%2527%2522\'\"
UID:5ff7d1df-c6a9-4ea3-9b74-c614283a949c
END:VEVENT
END:VCALENDAR
