BEGIN:VCALENDAR
PRODID:-//github.com/rianjs/ical.net//NONSGML ical.net 4.0//EN
VERSION:2.0
BEGIN:VEVENT
DESCRIPTION:2011 Annual Meeting by the American Academy of Neurology\n\nTi
 tle: The Practice of Neurology: Issues in Coding and Reimbursement\n\nAcc
 ess URL: https://www.aan.com/msa/Public/Events/GetEventURL/1992\n\nLearn 
 More About This Event: https://www.aan.com/msa/Public/Events/Details/1992
DTEND:20110409T160000
DTSTAMP:20260424T053956Z
DTSTART:20110409T080000
LOCATION:https://www.aan.com/msa/Public/Events/GetEventURL/1992
SEQUENCE:0
SUMMARY:AAN: The Practice of Neurology: Issues in Coding and Reimbursement
UID:acc1e955-64ca-44ea-81f6-ca53de6748f1
END:VEVENT
END:VCALENDAR
