BEGIN:VCALENDAR
PRODID:-//github.com/rianjs/ical.net//NONSGML ical.net 4.0//EN
VERSION:2.0
BEGIN:VEVENT
DESCRIPTION:2011 Annual Meeting by the American Academy of Neurology\n\nTi
 tle: Resident Basic Science II: Clinical Application of Neuropathology\n\
 nAccess URL: https://www.aan.com/msa/Public/Events/GetEventURL/1996\n\nLe
 arn More About This Event: https://www.aan.com/msa/Public/Events/Details/
 1996
DTEND:20110409T180000
DTSTAMP:20260424T053925Z
DTSTART:20110409T140000
LOCATION:https://www.aan.com/msa/Public/Events/GetEventURL/1996
SEQUENCE:0
SUMMARY:AAN: Resident Basic Science II: Clinical Application of Neuropatho
 logy
UID:3f5a476b-a9fd-4e93-a17e-cd988b600700
END:VEVENT
END:VCALENDAR
