BEGIN:VCALENDAR
PRODID:-//github.com/rianjs/ical.net//NONSGML ical.net 4.0//EN
VERSION:2.0
BEGIN:VEVENT
DESCRIPTION:2011 Annual Meeting by the American Academy of Neurology\n\nTi
 tle: Movement Disorder Emergencies: Adults and Children\n\nAccess URL: ht
 tps://www.aan.com/msa/Public/Events/GetEventURL/2005\n\nLearn More About 
 This Event: https://www.aan.com/msa/Public/Events/Details/2005
DTEND:20110409T180000
DTSTAMP:20260424T114322Z
DTSTART:20110409T160000
LOCATION:https://www.aan.com/msa/Public/Events/GetEventURL/2005
SEQUENCE:0
SUMMARY:AAN: Movement Disorder Emergencies: Adults and Children
UID:6fa02747-2e50-4756-ba0d-a674f0d89c9f
END:VEVENT
END:VCALENDAR
