BEGIN:VCALENDAR
PRODID:-//github.com/rianjs/ical.net//NONSGML ical.net 4.0//EN
VERSION:2.0
BEGIN:VEVENT
DESCRIPTION:2011 Annual Meeting by the American Academy of Neurology\n\nTi
 tle: Diagnostic Testing in Neuromuscular Disease\n\nAccess URL: https://w
 ww.aan.com/msa/Public/Events/GetEventURL/2006\n\nLearn More About This Ev
 ent: https://www.aan.com/msa/Public/Events/Details/2006
DTEND:20110409T180000
DTSTAMP:20260424T053924Z
DTSTART:20110409T160000
LOCATION:https://www.aan.com/msa/Public/Events/GetEventURL/2006
SEQUENCE:0
SUMMARY:AAN: Diagnostic Testing in Neuromuscular Disease
UID:ba1852c4-148a-432c-b548-81ce33c74978
END:VEVENT
END:VCALENDAR
