BEGIN:VCALENDAR
PRODID:-//github.com/rianjs/ical.net//NONSGML ical.net 4.0//EN
VERSION:2.0
BEGIN:VEVENT
DESCRIPTION:2011 Annual Meeting by the American Academy of Neurology\n\nTi
 tle: Neuro Flash: Child Neurology\n\nAccess URL: https://www.aan.com/msa/
 Public/Events/GetEventURL/2009\n\nLearn More About This Event: https://ww
 w.aan.com/msa/Public/Events/Details/2009
DTEND:20110410T080000
DTSTAMP:20260424T053901Z
DTSTART:20110410T063000
LOCATION:https://www.aan.com/msa/Public/Events/GetEventURL/2009
SEQUENCE:0
SUMMARY:AAN: Neuro Flash: Child Neurology
UID:9543a06a-0122-4698-a406-e2c6cd42823b
END:VEVENT
END:VCALENDAR
