BEGIN:VCALENDAR
PRODID:-//github.com/rianjs/ical.net//NONSGML ical.net 4.0//EN
VERSION:2.0
BEGIN:VEVENT
DESCRIPTION:2011 Annual Meeting by the American Academy of Neurology\n\nTi
 tle: Neuro-otology\n\nAccess URL: https://www.aan.com/msa/Public/Events/G
 etEventURL/2019\n\nLearn More About This Event: https://www.aan.com/msa/P
 ublic/Events/Details/2019
DTEND:20110410T130000
DTSTAMP:20260424T053901Z
DTSTART:20110410T090000
LOCATION:https://www.aan.com/msa/Public/Events/GetEventURL/2019
SEQUENCE:0
SUMMARY:AAN: Neuro-otology
UID:a955c49b-87c1-4bdb-9a6d-d5f7a1d6667d
END:VEVENT
END:VCALENDAR
