BEGIN:VCALENDAR
PRODID:-//github.com/rianjs/ical.net//NONSGML ical.net 4.0//EN
VERSION:2.0
BEGIN:VEVENT
DESCRIPTION:2011 Annual Meeting by the American Academy of Neurology\n\nTi
 tle: Clinical EMG I\n\nAccess URL: https://www.aan.com/msa/Public/Events/
 GetEventURL/2021\n\nLearn More About This Event: https://www.aan.com/msa/
 Public/Events/Details/2021
DTEND:20110410T130000
DTSTAMP:20260424T053921Z
DTSTART:20110410T090000
LOCATION:https://www.aan.com/msa/Public/Events/GetEventURL/2021
SEQUENCE:0
SUMMARY:AAN: Clinical EMG I
UID:4b09518f-bf4f-480f-a87a-77f8cc0405dd
END:VEVENT
END:VCALENDAR
