BEGIN:VCALENDAR
PRODID:-//github.com/rianjs/ical.net//NONSGML ical.net 4.0//EN
VERSION:2.0
BEGIN:VEVENT
DESCRIPTION:2011 Annual Meeting by the American Academy of Neurology\n\nTi
 tle: Continuum Test Your Knowledge: A Multiple-Choice Question Review\n\n
 Access URL: https://www.aan.com/msa/Public/Events/GetEventURL/2023\n\nLea
 rn More About This Event: https://www.aan.com/msa/Public/Events/Details/2
 023
DTEND:20110410T130000
DTSTAMP:20260424T095701Z
DTSTART:20110410T090000
LOCATION:https://www.aan.com/msa/Public/Events/GetEventURL/2023
SEQUENCE:0
SUMMARY:AAN: Continuum Test Your Knowledge: A Multiple-Choice Question Rev
 iew
UID:08dc3487-1124-439f-a0a5-16d146d53cdf
END:VEVENT
END:VCALENDAR
