BEGIN:VCALENDAR
PRODID:-//github.com/rianjs/ical.net//NONSGML ical.net 4.0//EN
VERSION:2.0
BEGIN:VEVENT
DESCRIPTION:2011 Annual Meeting by the American Academy of Neurology\n\nTi
 tle: E/M: Minimize Mistakes\, Maximize Reimbursement\n\nAccess URL: https
 ://www.aan.com/msa/Public/Events/GetEventURL/2025\n\nLearn More About Thi
 s Event: https://www.aan.com/msa/Public/Events/Details/2025
DTEND:20110410T113000
DTSTAMP:20260424T053952Z
DTSTART:20110410T093000
LOCATION:https://www.aan.com/msa/Public/Events/GetEventURL/2025
SEQUENCE:0
SUMMARY:AAN: E/M: Minimize Mistakes\, Maximize Reimbursement
UID:af102619-78b0-4804-b61d-d878b75ae2a5
END:VEVENT
END:VCALENDAR
