BEGIN:VCALENDAR
PRODID:-//github.com/rianjs/ical.net//NONSGML ical.net 4.0//EN
VERSION:2.0
BEGIN:VEVENT
DESCRIPTION:2011 Annual Meeting by the American Academy of Neurology\n\nTi
 tle: Genetics in Neurology\n\nAccess URL: https://www.aan.com/msa/Public/
 Events/GetEventURL/2027\n\nLearn More About This Event: https://www.aan.c
 om/msa/Public/Events/Details/2027
DTEND:20110410T180000
DTSTAMP:20260424T054032Z
DTSTART:20110410T100000
LOCATION:https://www.aan.com/msa/Public/Events/GetEventURL/2027
SEQUENCE:0
SUMMARY:AAN: Genetics in Neurology
UID:11150d6e-c81c-4de4-b202-456392671190
END:VEVENT
END:VCALENDAR
