BEGIN:VCALENDAR
PRODID:-//github.com/rianjs/ical.net//NONSGML ical.net 4.0//EN
VERSION:2.0
BEGIN:VEVENT
DESCRIPTION:2011 Annual Meeting by the American Academy of Neurology\n\nTi
 tle: Clinical Usefulness of Botulinum Toxin and Treatment of Dystonia\n\n
 Access URL: https://www.aan.com/msa/Public/Events/GetEventURL/2031\n\nLea
 rn More About This Event: https://www.aan.com/msa/Public/Events/Details/2
 031
DTEND:20110410T180000
DTSTAMP:20260424T054105Z
DTSTART:20110410T140000
LOCATION:https://www.aan.com/msa/Public/Events/GetEventURL/2031
SEQUENCE:0
SUMMARY:AAN: Clinical Usefulness of Botulinum Toxin and Treatment of Dysto
 nia
UID:f79f7b96-e5c3-4026-88ec-8a72f65e28c2
END:VEVENT
END:VCALENDAR
