BEGIN:VCALENDAR
PRODID:-//github.com/rianjs/ical.net//NONSGML ical.net 4.0//EN
VERSION:2.0
BEGIN:VEVENT
DESCRIPTION:2011 Annual Meeting by the American Academy of Neurology\n\nTi
 tle: Making Sure Your Electronic Health Record System is a Success\n\nAcc
 ess URL: https://www.aan.com/msa/Public/Events/GetEventURL/2032\n\nLearn 
 More About This Event: https://www.aan.com/msa/Public/Events/Details/2032
DTEND:20110410T180000
DTSTAMP:20260424T053954Z
DTSTART:20110410T140000
LOCATION:https://www.aan.com/msa/Public/Events/GetEventURL/2032
SEQUENCE:0
SUMMARY:AAN: Making Sure Your Electronic Health Record System is a Success
UID:50e623a0-e675-4b44-88a4-62b3c21b7910
END:VEVENT
END:VCALENDAR
