BEGIN:VCALENDAR
PRODID:-//github.com/rianjs/ical.net//NONSGML ical.net 4.0//EN
VERSION:2.0
BEGIN:VEVENT
DESCRIPTION:2011 Annual Meeting by the American Academy of Neurology\n\nTi
 tle: Morning Report: Challenging Headache Cases\n\nAccess URL: https://ww
 w.aan.com/msa/Public/Events/GetEventURL/2039\n\nLearn More About This Eve
 nt: https://www.aan.com/msa/Public/Events/Details/2039
DTEND:20110411T080000
DTSTAMP:20260424T095645Z
DTSTART:20110411T063000
LOCATION:https://www.aan.com/msa/Public/Events/GetEventURL/2039
SEQUENCE:0
SUMMARY:AAN: Morning Report: Challenging Headache Cases
UID:8a430745-338e-4f74-81e7-7db48df93b83
END:VEVENT
END:VCALENDAR
