BEGIN:VCALENDAR
PRODID:-//github.com/rianjs/ical.net//NONSGML ical.net 4.0//EN
VERSION:2.0
BEGIN:VEVENT
DESCRIPTION:2011 Annual Meeting by the American Academy of Neurology\n\nTi
 tle: Morning Report: Neurogenetics\n\nAccess URL: https://www.aan.com/msa
 /Public/Events/GetEventURL/2042\n\nLearn More About This Event: https://w
 ww.aan.com/msa/Public/Events/Details/2042
DTEND:20120423T080000
DTSTAMP:20260424T053951Z
DTSTART:20120423T063000
LOCATION:https://www.aan.com/msa/Public/Events/GetEventURL/2042
SEQUENCE:0
SUMMARY:AAN: Morning Report: Neurogenetics
UID:e02feab3-c404-4888-9113-fa60310c06b9
END:VEVENT
END:VCALENDAR
