BEGIN:VCALENDAR
PRODID:-//github.com/rianjs/ical.net//NONSGML ical.net 4.0//EN
VERSION:2.0
BEGIN:VTIMEZONE
TZID:Pacific Standard Time
X-LIC-LOCATION:America/Los_Angeles
BEGIN:STANDARD
DTSTART:20241103T020000
RRULE:FREQ=YEARLY;BYDAY=1SU;BYMONTH=11
TZNAME:PST
TZOFFSETFROM:-0700
TZOFFSETTO:-0800
END:STANDARD
BEGIN:DAYLIGHT
DTSTART:20250309T020000
RRULE:FREQ=YEARLY;BYDAY=2SU;BYMONTH=3
TZNAME:PDT
TZOFFSETFROM:-0800
TZOFFSETTO:-0700
END:DAYLIGHT
END:VTIMEZONE
BEGIN:VEVENT
DESCRIPTION:2025 Annual Meeting by the American Academy of Neurology\n\nTi
 tle: Immunovant ITU Slide Review Meeting\n\nDescription: This is a slide 
 review meeting with the faculty of the  Immunovant ITU scheduled for Apri
 l 7th.\n\nLearn More About This Event: https://www.aan.com/msa/Public/Eve
 nts/Details/20493
DTEND;TZID=Pacific Standard Time:20250406T180000
DTSTAMP:20260424T051032Z
DTSTART;TZID=Pacific Standard Time:20250406T160000
LOCATION:https://www.aan.com/msa/Public/Events/GetEventURL/20493
SEQUENCE:0
SUMMARY:AAN: Immunovant ITU Slide Review Meeting
UID:c60b1640-81f9-463d-bbb0-f24e415acb9f
END:VEVENT
END:VCALENDAR
