BEGIN:VCALENDAR
PRODID:-//github.com/rianjs/ical.net//NONSGML ical.net 4.0//EN
VERSION:2.0
BEGIN:VTIMEZONE
TZID:Pacific Standard Time
X-LIC-LOCATION:America/Los_Angeles
BEGIN:STANDARD
DTSTART:20241103T020000
RRULE:FREQ=YEARLY;BYDAY=1SU;BYMONTH=11
TZNAME:PST
TZOFFSETFROM:-0700
TZOFFSETTO:-0800
END:STANDARD
BEGIN:DAYLIGHT
DTSTART:20250309T020000
RRULE:FREQ=YEARLY;BYDAY=2SU;BYMONTH=3
TZNAME:PDT
TZOFFSETFROM:-0800
TZOFFSETTO:-0700
END:DAYLIGHT
END:VTIMEZONE
BEGIN:VEVENT
DESCRIPTION:2025 Annual Meeting by the American Academy of Neurology\n\nTi
 tle: UCB Advisory Board Meeting Slide Review\n\nDescription: This will be
  a slide review/rehearsal for the presenters for the UCB advisory board m
 eeting being held the following day\n\nLearn More About This Event: https
 ://www.aan.com/msa/Public/Events/Details/20513
DTEND;TZID=Pacific Standard Time:20250404T180000
DTSTAMP:20260423T163852Z
DTSTART;TZID=Pacific Standard Time:20250404T150000
LOCATION:https://www.aan.com/msa/Public/Events/GetEventURL/20513
SEQUENCE:0
SUMMARY:AAN: UCB Advisory Board Meeting Slide Review
UID:a5a7a249-f283-42d1-a5da-a251f392f2e6
END:VEVENT
END:VCALENDAR
