BEGIN:VCALENDAR
PRODID:-//github.com/rianjs/ical.net//NONSGML ical.net 4.0//EN
VERSION:2.0
BEGIN:VTIMEZONE
TZID:Pacific Standard Time
X-LIC-LOCATION:America/Los_Angeles
BEGIN:STANDARD
DTSTART:20241103T020000
RRULE:FREQ=YEARLY;BYDAY=1SU;BYMONTH=11
TZNAME:PST
TZOFFSETFROM:-0700
TZOFFSETTO:-0800
END:STANDARD
BEGIN:DAYLIGHT
DTSTART:20250309T020000
RRULE:FREQ=YEARLY;BYDAY=2SU;BYMONTH=3
TZNAME:PDT
TZOFFSETFROM:-0800
TZOFFSETTO:-0700
END:DAYLIGHT
END:VTIMEZONE
BEGIN:VEVENT
DESCRIPTION:2025 Annual Meeting by the American Academy of Neurology\n\nTi
 tle: Novartis All-Comers Dinner Meeting\n\nDescription: Novartis & HCPs D
 inner\n\nLearn More About This Event: https://www.aan.com/msa/Public/Even
 ts/Details/20514
DTEND;TZID=Pacific Standard Time:20250406T203000
DTSTAMP:20260424T122240Z
DTSTART;TZID=Pacific Standard Time:20250406T183000
LOCATION:https://www.aan.com/msa/Public/Events/GetEventURL/20514
SEQUENCE:0
SUMMARY:AAN: Novartis All-Comers Dinner Meeting
UID:e33e5464-8fe8-41f0-aa0a-45930222a08b
END:VEVENT
END:VCALENDAR
