BEGIN:VCALENDAR
PRODID:-//github.com/rianjs/ical.net//NONSGML ical.net 4.0//EN
VERSION:2.0
BEGIN:VTIMEZONE
TZID:Pacific Standard Time
X-LIC-LOCATION:America/Los_Angeles
BEGIN:STANDARD
DTSTART:20241103T020000
RRULE:FREQ=YEARLY;BYDAY=1SU;BYMONTH=11
TZNAME:PST
TZOFFSETFROM:-0700
TZOFFSETTO:-0800
END:STANDARD
BEGIN:DAYLIGHT
DTSTART:20250309T020000
RRULE:FREQ=YEARLY;BYDAY=2SU;BYMONTH=3
TZNAME:PDT
TZOFFSETFROM:-0800
TZOFFSETTO:-0700
END:DAYLIGHT
END:VTIMEZONE
BEGIN:VEVENT
DESCRIPTION:2025 Annual Meeting by the American Academy of Neurology\n\nTi
 tle: APP and PharmD Medical Insight Dinner\n\nDescription: Dinner meeting
  with Novartis and customers\n\nLearn More About This Event: https://www.
 aan.com/msa/Public/Events/Details/20515
DTEND;TZID=Pacific Standard Time:20250407T200000
DTSTAMP:20260423T213614Z
DTSTART;TZID=Pacific Standard Time:20250407T180000
LOCATION:https://www.aan.com/msa/Public/Events/GetEventURL/20515
SEQUENCE:0
SUMMARY:AAN: APP and PharmD Medical Insight Dinner
UID:3d389e17-01ca-407c-97fd-4f5c304a250d
END:VEVENT
END:VCALENDAR
