BEGIN:VCALENDAR
PRODID:-//github.com/rianjs/ical.net//NONSGML ical.net 4.0//EN
VERSION:2.0
BEGIN:VTIMEZONE
TZID:Pacific Standard Time
X-LIC-LOCATION:America/Los_Angeles
BEGIN:STANDARD
DTSTART:20241103T020000
RRULE:FREQ=YEARLY;BYDAY=1SU;BYMONTH=11
TZNAME:PST
TZOFFSETFROM:-0700
TZOFFSETTO:-0800
END:STANDARD
BEGIN:DAYLIGHT
DTSTART:20250309T020000
RRULE:FREQ=YEARLY;BYDAY=2SU;BYMONTH=3
TZNAME:PDT
TZOFFSETFROM:-0800
TZOFFSETTO:-0700
END:DAYLIGHT
END:VTIMEZONE
BEGIN:VEVENT
DESCRIPTION:2025 Annual Meeting by the American Academy of Neurology\n\nTi
 tle: AAN-WFN Continuum Program Meeting\n\nDescription: Publications staff
  (Amanda Doering and Patty Baskin) and Dr. Lyell Jones will meet with WFN
  leadership to discuss their joint Continuum program.\n\nLearn More About
  This Event: https://www.aan.com/msa/Public/Events/Details/20518
DTEND;TZID=Pacific Standard Time:20250406T090000
DTSTAMP:20260423T213748Z
DTSTART;TZID=Pacific Standard Time:20250406T080000
LOCATION:https://www.aan.com/msa/Public/Events/GetEventURL/20518
SEQUENCE:0
SUMMARY:AAN: AAN-WFN Continuum Program Meeting
UID:8f8ba19c-ebdc-4a92-9502-58361aae10cd
END:VEVENT
END:VCALENDAR
