BEGIN:VCALENDAR
PRODID:-//github.com/rianjs/ical.net//NONSGML ical.net 4.0//EN
VERSION:2.0
BEGIN:VTIMEZONE
TZID:Pacific Standard Time
X-LIC-LOCATION:America/Los_Angeles
BEGIN:STANDARD
DTSTART:20241103T020000
RRULE:FREQ=YEARLY;BYDAY=1SU;BYMONTH=11
TZNAME:PST
TZOFFSETFROM:-0700
TZOFFSETTO:-0800
END:STANDARD
BEGIN:DAYLIGHT
DTSTART:20250309T020000
RRULE:FREQ=YEARLY;BYDAY=2SU;BYMONTH=3
TZNAME:PDT
TZOFFSETFROM:-0800
TZOFFSETTO:-0700
END:DAYLIGHT
END:VTIMEZONE
BEGIN:VEVENT
DESCRIPTION:2025 Annual Meeting by the American Academy of Neurology\n\nTi
 tle: NeuroPace Meeting Room\n\nDescription: NeuroPace Meetings with  inve
 stigators\n\nLearn More About This Event: https://www.aan.com/msa/Public/
 Events/Details/20530
DTEND;TZID=Pacific Standard Time:20250408T190000
DTSTAMP:20260424T085130Z
DTSTART;TZID=Pacific Standard Time:20250408T070000
LOCATION:https://www.aan.com/msa/Public/Events/GetEventURL/20530
SEQUENCE:0
SUMMARY:AAN: NeuroPace Meeting Room
UID:47bd1770-35e9-4156-878f-cda092391e48
END:VEVENT
END:VCALENDAR
