BEGIN:VCALENDAR
PRODID:-//github.com/rianjs/ical.net//NONSGML ical.net 4.0//EN
VERSION:2.0
BEGIN:VEVENT
DESCRIPTION:2011 Annual Meeting by the American Academy of Neurology\n\nTi
 tle: Dementia Update\n\nAccess URL: https://www.aan.com/msa/Public/Events
 /GetEventURL/2054\n\nLearn More About This Event: https://www.aan.com/msa
 /Public/Events/Details/2054
DTEND:20110411T180000
DTSTAMP:20260424T054038Z
DTSTART:20110411T100000
LOCATION:https://www.aan.com/msa/Public/Events/GetEventURL/2054
SEQUENCE:0
SUMMARY:AAN: Dementia Update
UID:3606b49a-1a45-4cd7-85f9-1f206ff34f0f
END:VEVENT
END:VCALENDAR
