BEGIN:VCALENDAR
PRODID:-//github.com/rianjs/ical.net//NONSGML ical.net 4.0//EN
VERSION:2.0
BEGIN:VTIMEZONE
TZID:Pacific Standard Time
X-LIC-LOCATION:America/Los_Angeles
BEGIN:STANDARD
DTSTART:20241103T020000
RRULE:FREQ=YEARLY;BYDAY=1SU;BYMONTH=11
TZNAME:PST
TZOFFSETFROM:-0700
TZOFFSETTO:-0800
END:STANDARD
BEGIN:DAYLIGHT
DTSTART:20250309T020000
RRULE:FREQ=YEARLY;BYDAY=2SU;BYMONTH=3
TZNAME:PDT
TZOFFSETFROM:-0800
TZOFFSETTO:-0700
END:DAYLIGHT
END:VTIMEZONE
BEGIN:VEVENT
DESCRIPTION:2025 Annual Meeting by the American Academy of Neurology\n\nTi
 tle: Johnson & Johnson 2025 Librexia STROKE Study Meeting AAN USA \n\nDes
 cription: This is an informative meeting for those attending AAN and invo
 lved with the study.  \n\nLearn More About This Event: https://www.aan.co
 m/msa/Public/Events/Details/20540
DTEND;TZID=Pacific Standard Time:20250409T090000
DTSTAMP:20260424T072303Z
DTSTART;TZID=Pacific Standard Time:20250409T080000
LOCATION:https://www.aan.com/msa/Public/Events/GetEventURL/20540
SEQUENCE:0
SUMMARY:AAN: Johnson & Johnson 2025 Librexia STROKE Study Meeting AAN USA
UID:bd3e24c1-e0ba-446a-827b-07ec9bded070
END:VEVENT
END:VCALENDAR
