BEGIN:VCALENDAR
PRODID:-//github.com/rianjs/ical.net//NONSGML ical.net 4.0//EN
VERSION:2.0
BEGIN:VTIMEZONE
TZID:Pacific Standard Time
X-LIC-LOCATION:America/Los_Angeles
BEGIN:STANDARD
DTSTART:20241103T020000
RRULE:FREQ=YEARLY;BYDAY=1SU;BYMONTH=11
TZNAME:PST
TZOFFSETFROM:-0700
TZOFFSETTO:-0800
END:STANDARD
BEGIN:DAYLIGHT
DTSTART:20250309T020000
RRULE:FREQ=YEARLY;BYDAY=2SU;BYMONTH=3
TZNAME:PDT
TZOFFSETFROM:-0800
TZOFFSETTO:-0700
END:DAYLIGHT
END:VTIMEZONE
BEGIN:VEVENT
DESCRIPTION:2025 Annual Meeting by the American Academy of Neurology\n\nTi
 tle: Alexion Scientific Exchange Meeting\n\nDescription: Scientific Excha
 nge Meeting  that will engage experts from Germany\, Italy\, France\, and
  Spain to advance understanding in key areas.\n\nLearn More About This Ev
 ent: https://www.aan.com/msa/Public/Events/Details/20548
DTEND;TZID=Pacific Standard Time:20250406T200000
DTSTAMP:20260424T021736Z
DTSTART;TZID=Pacific Standard Time:20250406T170000
LOCATION:https://www.aan.com/msa/Public/Events/GetEventURL/20548
SEQUENCE:0
SUMMARY:AAN: Alexion Scientific Exchange Meeting
UID:a598edf7-6b9f-48ae-bd47-2781d5efdace
END:VEVENT
END:VCALENDAR
