BEGIN:VCALENDAR
PRODID:-//github.com/rianjs/ical.net//NONSGML ical.net 4.0//EN
VERSION:2.0
BEGIN:VEVENT
DESCRIPTION:2011 Annual Meeting by the American Academy of Neurology\n\nTi
 tle: Infections of the Nervous System\n\nAccess URL: https://www.aan.com/
 msa/Public/Events/GetEventURL/2057\n\nLearn More About This Event: https:
 //www.aan.com/msa/Public/Events/Details/2057
DTEND:20110411T180000
DTSTAMP:20260424T054104Z
DTSTART:20110411T100000
LOCATION:https://www.aan.com/msa/Public/Events/GetEventURL/2057
SEQUENCE:0
SUMMARY:AAN: Infections of the Nervous System
UID:bbf43a62-1787-475a-a370-9aaeb4c1df5b
END:VEVENT
END:VCALENDAR
