BEGIN:VCALENDAR
PRODID:-//github.com/rianjs/ical.net//NONSGML ical.net 4.0//EN
VERSION:2.0
BEGIN:VTIMEZONE
TZID:Pacific Standard Time
X-LIC-LOCATION:America/Los_Angeles
BEGIN:STANDARD
DTSTART:20241103T020000
RRULE:FREQ=YEARLY;BYDAY=1SU;BYMONTH=11
TZNAME:PST
TZOFFSETFROM:-0700
TZOFFSETTO:-0800
END:STANDARD
BEGIN:DAYLIGHT
DTSTART:20250309T020000
RRULE:FREQ=YEARLY;BYDAY=2SU;BYMONTH=3
TZNAME:PDT
TZOFFSETFROM:-0800
TZOFFSETTO:-0700
END:DAYLIGHT
END:VTIMEZONE
BEGIN:VEVENT
DESCRIPTION:2025 Annual Meeting by the American Academy of Neurology\n\nTi
 tle: The Neuron Clinic 6th Year Celebration Event\n\nDescription: We woul
 d like to have our 6th year anniversary celebration/reception as many of 
 all providers will be attending AAN\, we would like to serve appetizers a
 nd drinks\n\nLearn More About This Event: https://www.aan.com/msa/Public/
 Events/Details/20574
DTEND;TZID=Pacific Standard Time:20250408T213000
DTSTAMP:20260424T095738Z
DTSTART;TZID=Pacific Standard Time:20250408T183000
LOCATION:https://www.aan.com/msa/Public/Events/GetEventURL/20574
SEQUENCE:0
SUMMARY:AAN: The Neuron Clinic 6th Year Celebration Event
UID:c5fd375c-b098-430f-a655-f2f1aed84be8
END:VEVENT
END:VCALENDAR
