BEGIN:VCALENDAR
PRODID:-//github.com/rianjs/ical.net//NONSGML ical.net 4.0//EN
VERSION:2.0
BEGIN:VTIMEZONE
TZID:Pacific Standard Time
X-LIC-LOCATION:America/Los_Angeles
BEGIN:STANDARD
DTSTART:20241103T020000
RRULE:FREQ=YEARLY;BYDAY=1SU;BYMONTH=11
TZNAME:PST
TZOFFSETFROM:-0700
TZOFFSETTO:-0800
END:STANDARD
BEGIN:DAYLIGHT
DTSTART:20250309T020000
RRULE:FREQ=YEARLY;BYDAY=2SU;BYMONTH=3
TZNAME:PDT
TZOFFSETFROM:-0800
TZOFFSETTO:-0700
END:DAYLIGHT
END:VTIMEZONE
BEGIN:VEVENT
DESCRIPTION:2025 Annual Meeting by the American Academy of Neurology\n\nTi
 tle: Neurocrine Biosciences\, Inc. Debrief Day 3\n\nDescription: We will 
 be inviting all of the Neurocrine employees that will be onsite for AAN t
 o attend\, to discuss the day and debrief on content of the day and activ
 ity at our booth in the exhibit hall. \n\nLearn More About This Event: ht
 tps://www.aan.com/msa/Public/Events/Details/20577
DTEND;TZID=Pacific Standard Time:20250408T111500
DTSTAMP:20260423T213441Z
DTSTART;TZID=Pacific Standard Time:20250408T094500
LOCATION:https://www.aan.com/msa/Public/Events/GetEventURL/20577
SEQUENCE:0
SUMMARY:AAN: Neurocrine Biosciences\, Inc. Debrief Day 3
UID:b42af05c-4416-4a8f-bc0f-a3b49f35ab01
END:VEVENT
END:VCALENDAR
