BEGIN:VCALENDAR
PRODID:-//github.com/rianjs/ical.net//NONSGML ical.net 4.0//EN
VERSION:2.0
BEGIN:VEVENT
DESCRIPTION:2011 Annual Meeting by the American Academy of Neurology\n\nTi
 tle: Now You See It\, Now You Know It\; (Nearly) Pathognomonic Signs in N
 euro-ophthalmology Findings\n\nAccess URL: https://www.aan.com/msa/Public
 /Events/GetEventURL/2060\n\nLearn More About This Event: https://www.aan.
 com/msa/Public/Events/Details/2060
DTEND:20120423T140000
DTSTAMP:20260424T054002Z
DTSTART:20120423T110000
LOCATION:https://www.aan.com/msa/Public/Events/GetEventURL/2060
SEQUENCE:0
SUMMARY:AAN: Now You See It\, Now You Know It\; (Nearly) Pathognomonic Sig
 ns in Neuro-ophthalmology Findings
UID:6ad1f58e-03c2-4f51-b99b-e7ad781a9a57
END:VEVENT
END:VCALENDAR
