BEGIN:VCALENDAR
PRODID:-//github.com/rianjs/ical.net//NONSGML ical.net 4.0//EN
VERSION:2.0
BEGIN:VEVENT
DESCRIPTION:2011 Annual Meeting by the American Academy of Neurology\n\nTi
 tle: Neuromyelitis Optica: Scientific and Clinical Update\n\nAccess URL: 
 https://www.aan.com/msa/Public/Events/GetEventURL/2061\n\nLearn More Abou
 t This Event: https://www.aan.com/msa/Public/Events/Details/2061
DTEND:20110411T180000
DTSTAMP:20260424T053952Z
DTSTART:20110411T140000
LOCATION:https://www.aan.com/msa/Public/Events/GetEventURL/2061
SEQUENCE:0
SUMMARY:AAN: Neuromyelitis Optica: Scientific and Clinical Update
UID:e9f8d5fa-a43f-4f8c-8c41-e0ead3d0fc09
END:VEVENT
END:VCALENDAR
