BEGIN:VCALENDAR
PRODID:-//github.com/rianjs/ical.net//NONSGML ical.net 4.0//EN
VERSION:2.0
BEGIN:VEVENT
DESCRIPTION:2011 Annual Meeting by the American Academy of Neurology\n\nTi
 tle: Traumatic Brain Injury\n\nAccess URL: https://www.aan.com/msa/Public
 /Events/GetEventURL/2062\n\nLearn More About This Event: https://www.aan.
 com/msa/Public/Events/Details/2062
DTEND:20110411T180000
DTSTAMP:20260424T054034Z
DTSTART:20110411T140000
LOCATION:https://www.aan.com/msa/Public/Events/GetEventURL/2062
SEQUENCE:0
SUMMARY:AAN: Traumatic Brain Injury
UID:49b8cbd8-e743-4176-8276-51e0808c709f
END:VEVENT
END:VCALENDAR
