BEGIN:VCALENDAR
PRODID:-//github.com/rianjs/ical.net//NONSGML ical.net 4.0//EN
VERSION:2.0
BEGIN:VEVENT
DESCRIPTION:2011 Annual Meeting by the American Academy of Neurology\n\nTi
 tle: Perioperative Stroke:  A Practical Approach to Risk Stratification a
 nd Modification During the Preoperative Evaluation\n\nAccess URL: https:/
 /www.aan.com/msa/Public/Events/GetEventURL/2066\n\nLearn More About This 
 Event: https://www.aan.com/msa/Public/Events/Details/2066
DTEND:20130318T180000
DTSTAMP:20260424T114322Z
DTSTART:20130318T140000
LOCATION:https://www.aan.com/msa/Public/Events/GetEventURL/2066
SEQUENCE:0
SUMMARY:AAN: Perioperative Stroke:  A Practical Approach to Risk Stratific
 ation and Modification During the Preoperative Evaluation
UID:fed02ebe-85a3-450e-b0b5-8f3fbeb01537
END:VEVENT
END:VCALENDAR
