BEGIN:VCALENDAR
PRODID:-//github.com/rianjs/ical.net//NONSGML ical.net 4.0//EN
VERSION:2.0
BEGIN:VEVENT
DESCRIPTION:2011 Annual Meeting by the American Academy of Neurology\n\nTi
 tle: Case Studies: Neuroimaging\n\nAccess URL: https://www.aan.com/msa/Pu
 blic/Events/GetEventURL/2069\n\nLearn More About This Event: https://www.
 aan.com/msa/Public/Events/Details/2069
DTEND:20110411T180000
DTSTAMP:20260424T053958Z
DTSTART:20110411T150000
LOCATION:https://www.aan.com/msa/Public/Events/GetEventURL/2069
SEQUENCE:0
SUMMARY:AAN: Case Studies: Neuroimaging
UID:be140de3-588a-47a2-842c-c29d05bf08b3
END:VEVENT
END:VCALENDAR
