BEGIN:VCALENDAR
PRODID:-//github.com/rianjs/ical.net//NONSGML ical.net 4.0//EN
VERSION:2.0
BEGIN:VEVENT
DESCRIPTION:2011 Annual Meeting by the American Academy of Neurology\n\nTi
 tle: Ethical Dilemmas in the ICU\n\nAccess URL: https://www.aan.com/msa/P
 ublic/Events/GetEventURL/2074\n\nLearn More About This Event: https://www
 .aan.com/msa/Public/Events/Details/2074
DTEND:20120424T083000
DTSTAMP:20260424T053953Z
DTSTART:20120424T063000
LOCATION:https://www.aan.com/msa/Public/Events/GetEventURL/2074
SEQUENCE:0
SUMMARY:AAN: Ethical Dilemmas in the ICU
UID:f86c5443-c8d9-4bc4-a291-0cfe7506ce36
END:VEVENT
END:VCALENDAR
