BEGIN:VCALENDAR
PRODID:-//github.com/rianjs/ical.net//NONSGML ical.net 4.0//EN
VERSION:2.0
BEGIN:VEVENT
DESCRIPTION:2011 Annual Meeting by the American Academy of Neurology\n\nTi
 tle: Editor's Seminar: Tips for Writing and Reviewing in Neurology®\n\nAc
 cess URL: https://www.aan.com/msa/Public/Events/GetEventURL/2083\n\nLearn
  More About This Event: https://www.aan.com/msa/Public/Events/Details/208
 3
DTEND:20110413T083000
DTSTAMP:20260424T054039Z
DTSTART:20110413T063000
LOCATION:https://www.aan.com/msa/Public/Events/GetEventURL/2083
SEQUENCE:0
SUMMARY:AAN: Editor's Seminar: Tips for Writing and Reviewing in Neurology®
UID:9810d8bc-86b6-4680-9b2e-91ee43ec1ac5
END:VEVENT
END:VCALENDAR
