BEGIN:VCALENDAR
PRODID:-//github.com/rianjs/ical.net//NONSGML ical.net 4.0//EN
VERSION:2.0
BEGIN:VEVENT
DESCRIPTION:2011 Annual Meeting by the American Academy of Neurology\n\nTi
 tle: Important Drug Interactions for Neurologists and Psychiatrists\n\nAc
 cess URL: https://www.aan.com/msa/Public/Events/GetEventURL/2085\n\nLearn
  More About This Event: https://www.aan.com/msa/Public/Events/Details/208
 5
DTEND:20120425T083000
DTSTAMP:20260424T053921Z
DTSTART:20120425T063000
LOCATION:https://www.aan.com/msa/Public/Events/GetEventURL/2085
SEQUENCE:0
SUMMARY:AAN: Important Drug Interactions for Neurologists and Psychiatrists
UID:22027e6e-d925-4cf6-89ae-1a74ac4f92ac
END:VEVENT
END:VCALENDAR
