BEGIN:VCALENDAR
PRODID:-//github.com/rianjs/ical.net//NONSGML ical.net 4.0//EN
VERSION:2.0
BEGIN:VEVENT
DESCRIPTION:2011 Annual Meeting by the American Academy of Neurology\n\nTi
 tle: Emergency Room Neuro-ophthalmology\n\nAccess URL: https://www.aan.co
 m/msa/Public/Events/GetEventURL/2088\n\nLearn More About This Event: http
 s://www.aan.com/msa/Public/Events/Details/2088
DTEND:20110413T170000
DTSTAMP:20260424T054035Z
DTSTART:20110413T130000
LOCATION:https://www.aan.com/msa/Public/Events/GetEventURL/2088
SEQUENCE:0
SUMMARY:AAN: Emergency Room Neuro-ophthalmology
UID:2fd839b5-5224-4129-86e8-57dfda0570eb
END:VEVENT
END:VCALENDAR
