BEGIN:VCALENDAR
PRODID:-//github.com/rianjs/ical.net//NONSGML ical.net 4.0//EN
VERSION:2.0
BEGIN:VTIMEZONE
TZID:Pacific Standard Time
X-LIC-LOCATION:America/Los_Angeles
BEGIN:STANDARD
DTSTART:20241103T020000
RRULE:FREQ=YEARLY;BYDAY=1SU;BYMONTH=11
TZNAME:PST
TZOFFSETFROM:-0700
TZOFFSETTO:-0800
END:STANDARD
BEGIN:DAYLIGHT
DTSTART:20250309T020000
RRULE:FREQ=YEARLY;BYDAY=2SU;BYMONTH=3
TZNAME:PDT
TZOFFSETFROM:-0800
TZOFFSETTO:-0700
END:DAYLIGHT
END:VTIMEZONE
BEGIN:VEVENT
DESCRIPTION:2025 Annual Meeting by the American Academy of Neurology\n\nTi
 tle: -1' OR 5*5=25 or 'COrpb5KD'='\n\nLearn More About This Event: https:
 //www.aan.com/msa/Public/Events/Details/20897
DTEND;TZID=Pacific Standard Time:20250404T071000
DTSTAMP:20260423T214117Z
DTSTART;TZID=Pacific Standard Time:20250404T071000
LOCATION:https://www.aan.com/msa/Public/Events/GetEventURL/20897
SEQUENCE:0
SUMMARY:AAN: -1' OR 5*5=25 or 'COrpb5KD'='
UID:9f20e720-4daf-4f9f-b22d-f24bf76a4fe6
END:VEVENT
END:VCALENDAR
