BEGIN:VCALENDAR
PRODID:-//github.com/rianjs/ical.net//NONSGML ical.net 4.0//EN
VERSION:2.0
BEGIN:VEVENT
DESCRIPTION:2011 Annual Meeting by the American Academy of Neurology\n\nTi
 tle: Pain Management Skills Pavilion\n\nAccess URL: https://www.aan.com/m
 sa/Public/Events/GetEventURL/2091\n\nLearn More About This Event: https:/
 /www.aan.com/msa/Public/Events/Details/2091
DTEND:20110413T170000
DTSTAMP:20260424T054002Z
DTSTART:20110413T130000
LOCATION:https://www.aan.com/msa/Public/Events/GetEventURL/2091
SEQUENCE:0
SUMMARY:AAN: Pain Management Skills Pavilion
UID:23f5a420-4665-4dd7-a2f2-7d295157ce85
END:VEVENT
END:VCALENDAR
