BEGIN:VCALENDAR
PRODID:-//github.com/rianjs/ical.net//NONSGML ical.net 4.0//EN
VERSION:2.0
BEGIN:VEVENT
DESCRIPTION:2011 Annual Meeting by the American Academy of Neurology\n\nTi
 tle: Neuro Flash: Epilepsy\n\nAccess URL: https://www.aan.com/msa/Public/
 Events/GetEventURL/2094\n\nLearn More About This Event: https://www.aan.c
 om/msa/Public/Events/Details/2094
DTEND:20110414T080000
DTSTAMP:20260424T054037Z
DTSTART:20110414T063000
LOCATION:https://www.aan.com/msa/Public/Events/GetEventURL/2094
SEQUENCE:0
SUMMARY:AAN: Neuro Flash: Epilepsy
UID:036cea98-8f9b-4a86-b2b6-dae352e0daf4
END:VEVENT
END:VCALENDAR
